BEGIN:VCALENDAR
VERSION:2.0
PRODID:-//Cherry Duke - ECPv6.15.20//NONSGML v1.0//EN
CALSCALE:GREGORIAN
METHOD:PUBLISH
X-WR-CALNAME:Cherry Duke
X-ORIGINAL-URL:https://cherryduke.com
X-WR-CALDESC:Events for Cherry Duke
REFRESH-INTERVAL;VALUE=DURATION:PT1H
X-Robots-Tag:noindex
X-PUBLISHED-TTL:PT1H
BEGIN:VTIMEZONE
TZID:America/Denver
BEGIN:DAYLIGHT
TZOFFSETFROM:-0700
TZOFFSETTO:-0600
TZNAME:MDT
DTSTART:20240310T090000
END:DAYLIGHT
BEGIN:STANDARD
TZOFFSETFROM:-0600
TZOFFSETTO:-0700
TZNAME:MST
DTSTART:20241103T080000
END:STANDARD
BEGIN:DAYLIGHT
TZOFFSETFROM:-0700
TZOFFSETTO:-0600
TZNAME:MDT
DTSTART:20250309T090000
END:DAYLIGHT
BEGIN:STANDARD
TZOFFSETFROM:-0600
TZOFFSETTO:-0700
TZNAME:MST
DTSTART:20251102T080000
END:STANDARD
BEGIN:DAYLIGHT
TZOFFSETFROM:-0700
TZOFFSETTO:-0600
TZNAME:MDT
DTSTART:20260308T090000
END:DAYLIGHT
BEGIN:STANDARD
TZOFFSETFROM:-0600
TZOFFSETTO:-0700
TZNAME:MST
DTSTART:20261101T080000
END:STANDARD
END:VTIMEZONE
BEGIN:VTIMEZONE
TZID:UTC
BEGIN:STANDARD
TZOFFSETFROM:+0000
TZOFFSETTO:+0000
TZNAME:UTC
DTSTART:20220101T000000
END:STANDARD
END:VTIMEZONE
BEGIN:VEVENT
DTSTART;TZID=America/Denver:20250919T140000
DTEND;TZID=America/Denver:20250919T150000
DTSTAMP:20260425T092958
CREATED:20251005T222725Z
LAST-MODIFIED:20251005T235234Z
UID:4114-1758290400-1758294000@cherryduke.com
SUMMARY:Robert Owens Centenary Festival | Lincoln\, NE
DESCRIPTION:Cherry Duke premiered Robert Owens’ previously unpublished song cycle\, TRAUM\, at the festival on the composer’s 100th birthday\, September 19. \nThe song cycle is now published by Classical Vocal Reprints in a centennial edition curated by Festival organizer\, Dr. Jamie Reimer:\nhttps://www.classicalvocalrep.com/products/The-Robert-Owens-Song-Book-Centennial-Edition-Edited-by-Jamie-Reimer-20-Discount-thru-Sept-30th-426166.html \nVideo of Cherry’s September 19 performance with pianist Yimeng Xu: https://www.youtube.com/live/nBOLuvemG6w?si=p1T1XLjTVgRclyaX&t=1667
URL:https://cherryduke.com/event/robert-owens-centenary-festival-lincoln-ne/
LOCATION:University of Nebraska\, Lincoln\, Lincoln\, NE\, United States
CATEGORIES:African Diaspora art song,concert,concert soloist,world premiere
ATTACH;FMTTYPE=image/jpeg:https://cherryduke.com/wp-content/uploads/2025/10/owens-festival-scaled.jpeg
END:VEVENT
BEGIN:VEVENT
DTSTART;TZID=UTC:20230423T160000
DTEND;TZID=UTC:20230423T160000
DTSTAMP:20260425T092958
CREATED:20240731T040633Z
LAST-MODIFIED:20240819T221956Z
UID:3413-1682265600-1682265600@cherryduke.com
SUMMARY:An Afternoon of Song
DESCRIPTION:Cherry Duke and her husband\, tenor Brian Downen present a concert of music for voice and piano with Dr. Casey Robards\, piano and William McClain\, viola.
URL:https://cherryduke.com/event/recital-with-brian-downen/
LOCATION:NE
CATEGORIES:African Diaspora art song,Latin American art song,recital
ATTACH;FMTTYPE=image/webp:https://cherryduke.com/wp-content/uploads/2023/04/downen-duke-robards-mcclain-flyer-fb-cover.webp
END:VEVENT
BEGIN:VEVENT
DTSTART;TZID=UTC:20230225T120000
DTEND;TZID=UTC:20230225T120000
DTSTAMP:20260425T092958
CREATED:20240731T040634Z
LAST-MODIFIED:20240817T005829Z
UID:3416-1677326400-1677326400@cherryduke.com
SUMMARY:Song Cycles by African Heritage Composers
DESCRIPTION:The SHSU College of Arts & Media along with the SHSU School of Music proudly announces the third annual SHSU Art Song Festival. Presented as a hybrid event\, featuring art song performances\, scholarly presentations\, and a much-anticipated student competition. Registration for the festival is FREE of charge\, and all live performances take place in the beautiful facilities of the SHSU James and Nancy Gaertner Performing Arts Center in Huntsville\, Texas.\nIn addition to dynamic live performances\, this festival will offer the opportunity for art song scholars vetted from across the country to present their research in a virtual format\, with opportunities for participant discussion and questions through the online festival portal.
URL:https://cherryduke.com/event/song-cycles-by-african-heritage-composers/
LOCATION:NE
CATEGORIES:African Diaspora art song,Latin American art song,presentation,recital
ATTACH;FMTTYPE=image/jpeg:https://cherryduke.com/wp-content/uploads/2023/01/logo.jpg
END:VEVENT
END:VCALENDAR